BEGIN:VCALENDAR
VERSION:2.0
PRODID:-//pretix//pretix.eu//
BEGIN:VTIMEZONE
TZID:Europe/Berlin
BEGIN:STANDARD
DTSTART:20001029T040000
RRULE:FREQ=YEARLY;BYDAY=-1SU;BYMONTH=10
TZNAME:CET
TZOFFSETFROM:+0200
TZOFFSETTO:+0100
END:STANDARD
BEGIN:DAYLIGHT
DTSTART:20000326T030000
RRULE:FREQ=YEARLY;BYDAY=-1SU;BYMONTH=3
TZNAME:CEST
TZOFFSETFROM:+0100
TZOFFSETTO:+0200
END:DAYLIGHT
END:VTIMEZONE
BEGIN:VEVENT
UID:pretix-jodo-mm2023-0@event.muslimischejugend.de
DTSTART;TZID=Europe/Berlin:20231105T100000
DTEND;TZID=Europe/Berlin:20231105T170000
DESCRIPTION:Tickets: https://event.muslimischejugend.de/mm2023/\nVeranstalt
 er: MJD
DTSTAMP:20260419T212613Z
LOCATION:Gemeindehaus Heepen\, Vogteistraße 5\, 33719 Bielefeld
SUMMARY:Mitgliedermeeting 2023
END:VEVENT
END:VCALENDAR
