BEGIN:VCALENDAR
VERSION:2.0
PRODID:-//pretix//pretix.eu//
BEGIN:VTIMEZONE
TZID:Europe/Berlin
BEGIN:STANDARD
DTSTART:20001029T040000
RRULE:FREQ=YEARLY;BYDAY=-1SU;BYMONTH=10
TZNAME:CET
TZOFFSETFROM:+0200
TZOFFSETTO:+0100
END:STANDARD
BEGIN:DAYLIGHT
DTSTART:20000326T030000
RRULE:FREQ=YEARLY;BYDAY=-1SU;BYMONTH=3
TZNAME:CEST
TZOFFSETFROM:+0100
TZOFFSETTO:+0200
END:DAYLIGHT
END:VTIMEZONE
BEGIN:VEVENT
UID:pretix-jodo-iftar-dortmund-0@event.muslimischejugend.de
DTSTART;TZID=Europe/Berlin:20230401T183000
DTEND;TZID=Europe/Berlin:20230401T193000
DESCRIPTION:Tickets: https://event.muslimischejugend.de/iftar-dortmund/\nEi
 nlass: 01.04.2023 18:30\nVeranstalter: MJD
DTSTAMP:20260420T093016Z
LOCATION:Big Tipi\, Lindenhorster Str. 6\, 44147 Dortmund
SUMMARY:Gemeinsames Fastenbrechen LK Dortmund
END:VEVENT
END:VCALENDAR
