BEGIN:VCALENDAR
VERSION:2.0
PRODID:-//pretix//pretix.eu//
BEGIN:VTIMEZONE
TZID:Europe/Berlin
BEGIN:STANDARD
DTSTART:20001029T040000
RRULE:FREQ=YEARLY;BYDAY=-1SU;BYMONTH=10
TZNAME:CET
TZOFFSETFROM:+0200
TZOFFSETTO:+0100
END:STANDARD
BEGIN:DAYLIGHT
DTSTART:20000326T030000
RRULE:FREQ=YEARLY;BYDAY=-1SU;BYMONTH=3
TZNAME:CEST
TZOFFSETFROM:+0100
TZOFFSETTO:+0200
END:DAYLIGHT
END:VTIMEZONE
BEGIN:VEVENT
UID:pretix-jodo-hf2021-0@event.muslimischejugend.de
DTSTART;TZID=Europe/Berlin:20211017T110000
DTEND;TZID=Europe/Berlin:20211017T180000
DESCRIPTION:Tickets: https://event.muslimischejugend.de/hf2021/\nEinlass: 1
 7.10.2021 10:00\nVeranstalter: MJD
DTSTAMP:20260421T113236Z
LOCATION:Movie Park Germany
SUMMARY:Herbstfreizeit 2021
END:VEVENT
END:VCALENDAR
