BEGIN:VCALENDAR
VERSION:2.0
PRODID:-//pretix//pretix.eu//
BEGIN:VTIMEZONE
TZID:Europe/Berlin
BEGIN:STANDARD
DTSTART:20001029T040000
RRULE:FREQ=YEARLY;BYDAY=-1SU;BYMONTH=10
TZNAME:CET
TZOFFSETFROM:+0200
TZOFFSETTO:+0100
END:STANDARD
BEGIN:DAYLIGHT
DTSTART:20000326T030000
RRULE:FREQ=YEARLY;BYDAY=-1SU;BYMONTH=3
TZNAME:CEST
TZOFFSETFROM:+0100
TZOFFSETTO:+0200
END:DAYLIGHT
END:VTIMEZONE
BEGIN:VEVENT
UID:pretix-jodo-mumm2026-0@mumm.muslimischejugend.de
DTSTART;TZID=Europe/Berlin:20260403T160000
DTEND;TZID=Europe/Berlin:20260406T130000
DESCRIPTION:Tickets: https://mumm.muslimischejugend.de/\nVeranstalter: MJD
DTSTAMP:20260424T052423Z
SUMMARY:MuMM 2026 - 25 Jähriges Jubiläum
END:VEVENT
BEGIN:VEVENT
UID:pretix-jodo-bm26-0@bm.muslimischejugend.de
DTSTART;TZID=Europe/Berlin:20260403T160000
DTEND;TZID=Europe/Berlin:20260406T100000
DESCRIPTION:Tickets: https://bm.muslimischejugend.de/\nEinlass: 03.04.2026 
 16:00\nVeranstalter: MJD
DTSTAMP:20260424T052423Z
LOCATION:Meschede\, Eversberg
SUMMARY:Brüdermeeting 2026: AKHIra - Schulter an Schulter ins Paradies
END:VEVENT
BEGIN:VEVENT
UID:pretix-jodo-JM26-0@www.mjdmeeting.de
DTSTART;VALUE=DATE:20260514
DTEND;VALUE=DATE:20260518
DESCRIPTION:Tickets: https://www.mjdmeeting.de/\nVeranstalter: MJD
DTSTAMP:20260424T052423Z
SUMMARY:MJD Jahresmeeting 2026
END:VEVENT
END:VCALENDAR
